BEGIN:VCALENDAR
VERSION:2.0
PRODID:-//GUIPAVAS BMX - ECPv6.10.2//NONSGML v1.0//EN
CALSCALE:GREGORIAN
METHOD:PUBLISH
X-WR-CALNAME:GUIPAVAS BMX
X-ORIGINAL-URL:https://guipavasbmx.fr
X-WR-CALDESC:Évènements pour GUIPAVAS BMX
REFRESH-INTERVAL;VALUE=DURATION:PT1H
X-Robots-Tag:noindex
X-PUBLISHED-TTL:PT1H
BEGIN:VTIMEZONE
TZID:UTC
BEGIN:STANDARD
TZOFFSETFROM:+0000
TZOFFSETTO:+0000
TZNAME:UTC
DTSTART:20240101T000000
END:STANDARD
END:VTIMEZONE
BEGIN:VEVENT
DTSTART;VALUE=DATE:20240529
DTEND;VALUE=DATE:20240603
DTSTAMP:20260421T104249
CREATED:20230915T191208Z
LAST-MODIFIED:20240121T180322Z
UID:77344-1716940800-1717372799@guipavasbmx.fr
SUMMARY:Championnat d'Europe à Verone (Italie)
DESCRIPTION:
URL:https://guipavasbmx.fr/calendrier/championnat-deurope/
LOCATION:Verone\, Via Sogare\, 1\, verona\, 37138\, Italie
CATEGORIES:Championnat d'Europe
END:VEVENT
END:VCALENDAR